BEGIN:VCALENDAR
VERSION:2.0
PRODID:-//Ursula Anna Baumgartner - ECPv5.14.1//NONSGML v1.0//EN
CALSCALE:GREGORIAN
METHOD:PUBLISH
X-WR-CALNAME:Ursula Anna Baumgartner
X-ORIGINAL-URL:https://www.ursula-baumgartner.com
X-WR-CALDESC:Veranstaltungen für Ursula Anna Baumgartner
BEGIN:VTIMEZONE
TZID:UTC
BEGIN:STANDARD
TZOFFSETFROM:+0000
TZOFFSETTO:+0000
TZNAME:UTC
DTSTART:20230101T000000
END:STANDARD
END:VTIMEZONE
BEGIN:VEVENT
DTSTART;TZID=UTC:20231028T203000
DTEND;TZID=UTC:20231028T223000
DTSTAMP:20260422T163643
CREATED:20230919T132717Z
LAST-MODIFIED:20230919T132717Z
UID:3029-1698525000-1698532200@www.ursula-baumgartner.com
SUMMARY:28. Oktober: SONGS FROM THE SOFA/Würzburger Improfestival
DESCRIPTION:Ein einzigartiger Mensch on the sofa! Wer das sein wird\, verraten wir noch nicht. Bekannt ist: Gemütlich auf dem Sofa sitzend wird eine stadtbekannte Person interviewt von der charmanten Nicole Erichsen\, die ihr nie gehörte Details entlocken wird\, welche das Festival-Ensemble des Abends wiederum zu nie gehörten Songs inspirieren werden. Das Publikum folgt musikalisch einem Leben und staunt über die Facetten\, die das Sofa enthüllt. Weiteratmen ist angesagt. Und weitersingen\, denn die Geste der Weltumarmung ist immer noch die größte Geste\, die wir machen können.\nIn dieser Hommage an die Welt des Songwriting werden Lieder improvisiert und groß in Szene gesetzt. Make it bigger! Inspiriert durch wahre Ereignisse und die Begegnung mit dem Sofagast.\nMusik: Jannis Kaffka\, Simon Brumm und Ebbi Grözinger
URL:https://www.ursula-baumgartner.com/termin/28-oktober-songs-from-the-sofa-wuerzburger-improfestival/
LOCATION:Chambinzky\, Valentin-Becker-Straße 2\, Würzburg\, 97072\, Deutschland
CATEGORIES:Impro
ATTACH;FMTTYPE=image/png:https://www.ursula-baumgartner.com/blog/wp-content/uploads/2023/09/Bildschirmfoto-2023-09-19-um-15.17.00.png
END:VEVENT
END:VCALENDAR