BEGIN:VCALENDAR
VERSION:2.0
PRODID:-//Ursula Anna Baumgartner - ECPv5.14.1//NONSGML v1.0//EN
CALSCALE:GREGORIAN
METHOD:PUBLISH
X-WR-CALNAME:Ursula Anna Baumgartner
X-ORIGINAL-URL:https://www.ursula-baumgartner.com
X-WR-CALDESC:Veranstaltungen für Ursula Anna Baumgartner
BEGIN:VTIMEZONE
TZID:UTC
BEGIN:STANDARD
TZOFFSETFROM:+0000
TZOFFSETTO:+0000
TZNAME:UTC
DTSTART:20230101T000000
END:STANDARD
END:VTIMEZONE
BEGIN:VEVENT
DTSTART;TZID=UTC:20231027T203000
DTEND;TZID=UTC:20231027T213000
DTSTAMP:20260422T163628
CREATED:20230919T131801Z
LAST-MODIFIED:20230919T131801Z
UID:3025-1698438600-1698442200@www.ursula-baumgartner.com
SUMMARY:27. Oktober: BEMME & MELANGE am Würzbuger Improfestival
DESCRIPTION:The Impro Duo Bemme & Melange from Vienna sets out on a new adventure. In „Sound off!“ they enter a world in which language doesn’t matter.\nCompletly without words\, immersed in an atmosphere of sounds and songs\, the two actors Ursula Anna Baumgartner and Anne Rab step into the unknown. Inspired by audience suggestions of character\, setting and surprises\, they ride a rollercoaster of improvised emotion and comotion where only one thing is certain: nothing is certain.
URL:https://www.ursula-baumgartner.com/termin/27-oktober-bemme-melange-am-wuerzbuger-improfestival/
LOCATION:Jugendkulturhaus CAIRO\, Fred-Joseph-Platz 3\, Würzburg\, 97082\, Deutschland
CATEGORIES:Impro
ATTACH;FMTTYPE=image/png:https://www.ursula-baumgartner.com/blog/wp-content/uploads/2023/09/Bildschirmfoto-2023-09-19-um-15.17.00.png
END:VEVENT
END:VCALENDAR