BEGIN:VCALENDAR
VERSION:2.0
PRODID:-//Ursula Anna Baumgartner - ECPv5.14.1//NONSGML v1.0//EN
CALSCALE:GREGORIAN
METHOD:PUBLISH
X-WR-CALNAME:Ursula Anna Baumgartner
X-ORIGINAL-URL:https://www.ursula-baumgartner.com
X-WR-CALDESC:Veranstaltungen für Ursula Anna Baumgartner
BEGIN:VTIMEZONE
TZID:UTC
BEGIN:STANDARD
TZOFFSETFROM:+0000
TZOFFSETTO:+0000
TZNAME:UTC
DTSTART:20260101T000000
END:STANDARD
END:VTIMEZONE
BEGIN:VEVENT
DTSTART;TZID=UTC:20260314T120000
DTEND;TZID=UTC:20260314T180000
DTSTAMP:20260421T090149
CREATED:20260225T110107Z
LAST-MODIFIED:20260225T110107Z
UID:3751-1773489600-1773511200@www.ursula-baumgartner.com
SUMMARY:14. März: Workshop in Athen
DESCRIPTION:Ich freue mich sehr über die Einladung von Athens Improv Studio nach Griechenland! Am 14. März gebe ich dort meinen Workshop „Body+Voice=Character“.
URL:https://www.ursula-baumgartner.com/termin/14-maerz-workshop-in-athen/
CATEGORIES:Impro,Workshop
ATTACH;FMTTYPE=image/png:https://www.ursula-baumgartner.com/blog/wp-content/uploads/2026/02/Bildschirmfoto-2026-02-25-um-11.56.30.png
END:VEVENT
END:VCALENDAR